BEGIN:VCALENDAR
VERSION:2.0
PRODID:-//162.241.252.176//NONSGML kigkonsult.se iCalcreator 2.24.2//
CALSCALE:GREGORIAN
METHOD:PUBLISH
X-WR-CALNAME:Absolutely Positively Coffee
X-WR-CALDESC:Coffee happenings in Wellington and beyond
X-FROM-URL:https://absolutelypositivelycoffee.co.nz
X-WR-TIMEZONE:Pacific/Auckland
BEGIN:VTIMEZONE
TZID:Pacific/Auckland
X-LIC-LOCATION:Pacific/Auckland
BEGIN:STANDARD
DTSTART:20190407T030000
TZOFFSETFROM:+1300
TZOFFSETTO:+1200
RDATE:20200405T030000
TZNAME:NZST
END:STANDARD
BEGIN:DAYLIGHT
DTSTART:20180930T020000
TZOFFSETFROM:+1200
TZOFFSETTO:+1300
RDATE:20190929T020000
TZNAME:NZDT
END:DAYLIGHT
END:VTIMEZONE
BEGIN:VEVENT
UID:e283469202266865@facebook.com
DTSTAMP:20181221T042747Z
CATEGORIES:
CONTACT:
DESCRIPTION:<p>We are searching for the best barista in New Zealand to repr
 esent us at the World Barista Championship 2019.</p>\n<p>The winner will t
 ravel to Boston to compete during the SCA Expo next 11-14 April 2019.</p>
 \n<p>Free admission for spectators.  Competitor entry open soon.</p>\n<p>h
 ttps://www.facebook.com/events/283469202266865/</p>
DTSTART;TZID=Pacific/Auckland:20190202T091000
DTEND;TZID=Pacific/Auckland:20190203T171000
LOCATION:New Zealand Barista Championship
SEQUENCE:0
SUMMARY:New Zealand Barista Championship 2019
URL:https://absolutelypositivelycoffee.co.nz/event/new-zealand-barista-cham
 pionship-2019/
END:VEVENT
END:VCALENDAR
